BEGIN:VCALENDAR
VERSION:2.0
PRODID:-//Courtney Covers Cleveland - ECPv6.6.4.2//NONSGML v1.0//EN
CALSCALE:GREGORIAN
METHOD:PUBLISH
X-ORIGINAL-URL:https://courtneycoverscleveland.com
X-WR-CALDESC:Events for Courtney Covers Cleveland
REFRESH-INTERVAL;VALUE=DURATION:PT1H
X-Robots-Tag:noindex
X-PUBLISHED-TTL:PT1H
BEGIN:VTIMEZONE
TZID:America/Detroit
BEGIN:DAYLIGHT
TZOFFSETFROM:-0500
TZOFFSETTO:-0400
TZNAME:EDT
DTSTART:20190310T070000
END:DAYLIGHT
BEGIN:STANDARD
TZOFFSETFROM:-0400
TZOFFSETTO:-0500
TZNAME:EST
DTSTART:20191103T060000
END:STANDARD
END:VTIMEZONE
BEGIN:VEVENT
DTSTART;TZID=America/Detroit:20190818T140000
DTEND;TZID=America/Detroit:20190818T200000
DTSTAMP:20260425T130320
CREATED:20190805T191011Z
LAST-MODIFIED:20190805T191011Z
UID:2046-1566136800-1566158400@courtneycoverscleveland.com
SUMMARY:The Real Black Friday Business Expo and Taste of Cleveland
DESCRIPTION:This is one of #CourtneyCoversCleveland’s favorite events to support! \nThis year I’m happy to be hosting on the main stage from 6pm-8pm with Ricky Smith! I invite all my followers to enjoy live entertainment\, vendors\, food trucks\, kids activities\, different battles and much more. Free for the entire family.
URL:https://courtneycoverscleveland.com/event/the-real-black-friday-business-expo-and-taste-of-cleveland/
LOCATION:Public Square\, 36 W Superior Ave\, Cleveland\, Ohio\, 44113
ATTACH;FMTTYPE=image/jpeg:https://courtneycoverscleveland.com/wp-content/uploads/2019/08/TRBF.jpg
END:VEVENT
END:VCALENDAR