BEGIN:VCALENDAR
VERSION:2.0
PRODID:-//Courtney Covers Cleveland - ECPv6.6.4.2//NONSGML v1.0//EN
CALSCALE:GREGORIAN
METHOD:PUBLISH
X-WR-CALNAME:Courtney Covers Cleveland
X-ORIGINAL-URL:https://courtneycoverscleveland.com
X-WR-CALDESC:Events for Courtney Covers Cleveland
REFRESH-INTERVAL;VALUE=DURATION:PT1H
X-Robots-Tag:noindex
X-PUBLISHED-TTL:PT1H
BEGIN:VTIMEZONE
TZID:America/Detroit
BEGIN:DAYLIGHT
TZOFFSETFROM:-0500
TZOFFSETTO:-0400
TZNAME:EDT
DTSTART:20220313T070000
END:DAYLIGHT
BEGIN:STANDARD
TZOFFSETFROM:-0400
TZOFFSETTO:-0500
TZNAME:EST
DTSTART:20221106T060000
END:STANDARD
END:VTIMEZONE
BEGIN:VEVENT
DTSTART;TZID=America/Detroit:20221222T190000
DTEND;TZID=America/Detroit:20221222T220000
DTSTAMP:20260421T114915
CREATED:20221209T151534Z
LAST-MODIFIED:20221213T155243Z
UID:3577-1671735600-1671746400@courtneycoverscleveland.com
SUMMARY:A Christmas Edition Ladies Night
DESCRIPTION:#CourtneyCoversCleveland has been booked and busy all year and sadly didn’t have time to plan one Ladies Night. Well that is until now… There was just no way I could end 2022 without seeing you LADIES! \nSo let’s enjoy the first and last Ladies Night of the year Thursday\, December 22\, 2022 at 7PM. \nEvery Single Ladies Night has been SOLD OUT! I’m expecting this one to do the same\, so get your tickets NOW! This event is planned for YOU to carve time out for YOU before you spend the next few days focusing on everyone else. Take a break from running around crazy and come meet up with the ladies. \nThere will also be vendor tables (available for purchase at the link\, must supply your own tablecloth) for the ladies to enjoy a little shopping and grab a few last minute gifts. \nDetails on location to be revealed 48 hours before the event! \nThe REQUIRED ATTIRE this time will be 50 SHADES OF GREEN ! This orginally said anything FESTIVE but not RED but I changed it. After reviewing the pictures from the last Ladies Night and everyone in RED – there’s just something about seeing everyone in the same color 🙂
URL:https://courtneycoverscleveland.com/event/a-christmas-edition-ladies-night/
ATTACH;FMTTYPE=image/png:https://courtneycoverscleveland.com/wp-content/uploads/2022/12/black-minimalist-christmas-eve-dinner-party-poster-portrait-Instagram-Post-Square.png
END:VEVENT
END:VCALENDAR