BEGIN:VCALENDAR
VERSION:2.0
PRODID:-//Courtney Covers Cleveland - ECPv6.6.4.2//NONSGML v1.0//EN
CALSCALE:GREGORIAN
METHOD:PUBLISH
X-WR-CALNAME:Courtney Covers Cleveland
X-ORIGINAL-URL:https://courtneycoverscleveland.com
X-WR-CALDESC:Events for Courtney Covers Cleveland
REFRESH-INTERVAL;VALUE=DURATION:PT1H
X-Robots-Tag:noindex
X-PUBLISHED-TTL:PT1H
BEGIN:VTIMEZONE
TZID:America/Detroit
BEGIN:DAYLIGHT
TZOFFSETFROM:-0500
TZOFFSETTO:-0400
TZNAME:EDT
DTSTART:20190310T070000
END:DAYLIGHT
BEGIN:STANDARD
TZOFFSETFROM:-0400
TZOFFSETTO:-0500
TZNAME:EST
DTSTART:20191103T060000
END:STANDARD
END:VTIMEZONE
BEGIN:VEVENT
DTSTART;TZID=America/Detroit:20190811T183000
DTEND;TZID=America/Detroit:20190811T210000
DTSTAMP:20260425T112313
CREATED:20190530T142531Z
LAST-MODIFIED:20190530T143711Z
UID:1892-1565548200-1565557200@courtneycoverscleveland.com
SUMMARY:The Cleveland Premiere of Ray Jr's Movie 'Rent Due'
DESCRIPTION:#CourtneyCoversCleveland will definitely be attending the premiere of Cleveland’s own Ray Jr’s new movie “Rent Due” on August 11\, 2019! \nThe film will premiere in Cleveland at the Regal Cinemas in Richmond Heights. The movie is being released under Ray Jr.’s production company Legit Paper. The star studded cast includes Ray Jr\, William Cobbins\, B Simone\, Landon Ramono\, HaHa Davis\, Machine Gun Kelly\, BjMonet\, Shiggy\, Rashid Hasson and more! \nWatch the trailer here: http://rentduethemovie.com/videos/ \nThe Movie Is about 2 Cousins Who Find themselves short On paying their rent! Ray Jr Plays a Character Named Reggie Who lost his Girl Friend\, Job And Home all in the Same day. His cousin Top who is played by William Dobbs also having a rough day cause he was robbed of his rent money by some strippers. They Both Trying to figure out different ways to Pay Rent without going to jail.
URL:https://courtneycoverscleveland.com/event/the-cleveland-premiere-of-ray-jrs-movie-rent-due/
LOCATION:Regal Cinemas Richmond Town Square 20\, 631 Richmond Road\, Richmond Heights\, 44143
ATTACH;FMTTYPE=image/jpeg:https://courtneycoverscleveland.com/wp-content/uploads/2019/05/RJmovie.jpg
END:VEVENT
BEGIN:VEVENT
DTSTART;TZID=America/Detroit:20190818T140000
DTEND;TZID=America/Detroit:20190818T200000
DTSTAMP:20260425T112313
CREATED:20190805T191011Z
LAST-MODIFIED:20190805T191011Z
UID:2046-1566136800-1566158400@courtneycoverscleveland.com
SUMMARY:The Real Black Friday Business Expo and Taste of Cleveland
DESCRIPTION:This is one of #CourtneyCoversCleveland’s favorite events to support! \nThis year I’m happy to be hosting on the main stage from 6pm-8pm with Ricky Smith! I invite all my followers to enjoy live entertainment\, vendors\, food trucks\, kids activities\, different battles and much more. Free for the entire family.
URL:https://courtneycoverscleveland.com/event/the-real-black-friday-business-expo-and-taste-of-cleveland/
LOCATION:Public Square\, 36 W Superior Ave\, Cleveland\, Ohio\, 44113
ATTACH;FMTTYPE=image/jpeg:https://courtneycoverscleveland.com/wp-content/uploads/2019/08/TRBF.jpg
END:VEVENT
BEGIN:VEVENT
DTSTART;TZID=America/Detroit:20190822T170000
DTEND;TZID=America/Detroit:20190822T193000
DTSTAMP:20260425T112313
CREATED:20190805T190555Z
LAST-MODIFIED:20190813T044122Z
UID:2041-1566493200-1566502200@courtneycoverscleveland.com
SUMMARY:Building Black Political Power through Black Giving
DESCRIPTION:#CourtneyCoversCleveland proudly sits on the Marketing Committee for The Soul of Philanthropy Cleveland. I’m looking forward to attending this event! \nBuilding Black Political Power through Black Giving will be an engaging\, high-energy community conversation focused on building and strengthening the leadership of black led organizations/movements centered around building black political power. We’re convening national experts and local organizations to highlight the importance and significance of the black vote/political leadership. The panelist will explore movement building\, infrastructure development\, approaches to resourcing social change and bring into focus the high stakes. \n5:00-6:00 – Networking | 6:00-7:30 Panel Discussion \nSpeakers & Guests: Stephanie James & Quentin James (The Collective PAC)\, Daniel Sydnor (NAACP Cleveland)\, Erica Anthony (Cleveland VOTES & NPI)\, and Brother Jeff Johnson. \nCall to Action: To mobilize Black Giving in support of Building Black Political Power. \n  \nThis event is FREE and open to the public but registration is required. 
URL:https://courtneycoverscleveland.com/event/building-black-political-power-through-black-giving/
LOCATION:Karamu House\, 2355 East 89th Street\, Cleveland\, 44106
ATTACH;FMTTYPE=image/jpeg:https://courtneycoverscleveland.com/wp-content/uploads/2019/08/BBPP.jpg
END:VEVENT
BEGIN:VEVENT
DTSTART;TZID=America/Detroit:20190824T150000
DTEND;TZID=America/Detroit:20190824T190000
DTSTAMP:20260425T112313
CREATED:20190813T044016Z
LAST-MODIFIED:20190813T044228Z
UID:2088-1566658800-1566673200@courtneycoverscleveland.com
SUMMARY:1984V presents FUNK Provocateur by Tiara Chameleon
DESCRIPTION:Who: 1984V & Ageless Studios brought to you by Tiara & Robyn \nWhat: Tiara & Robyn\, will come together under one roof to showcase the new 1984V collection\, while also having a fashion meet & greet of the two vintage connoisseurs! Ageless Studios recently opened\, and it too is a studio space filled with curated clothing from Robyn. Tiara & Robyn share a similar aesthetic & approach when curating vintage clothing\, so the location and space made perfect sense and is a good fit. This event is designed to invite the Cleveland people to come out and learn more about these two ladies\, these two brands\, and their individual style!! We call it a Meet & Greet\, as the two will invite different audiences and bring them all together for the first time. This will be a Sip & Shop moment\, where you can enjoy wine & champagne while shopping all the items within the store. 1984V is popping up for one day. Depending on the turnout\, we may discuss doing this more often! This is the kickoff location for an upcoming Fall Season Tour of this Collection\, in multiple cities. \nWhen: 8/24 From 3-7pm \nWhere: @Ageless Studios Located at 12732 Larchmere Blvd. \nWhy: Since leaving home in 2002\, Tiara has lived in several cities and hasn’t been back home to share her gifts with her family\, friends\, and community. When putting the collection together and reminiscing back to her roots…it only made sense that the launch of this Collection take place in Tiara’s hometown\, Cleveland. Robyn & Tiara have partnered before on projects and the two have proven that they are a dynamic duo to host all things vintage collaboratively!! We are using the Ageless Studios Space\, to help drive traffic and bring awareness to the Shaker and Cleveland surrounding Communities about this location\, these ladies’ efforts and talents\, and individual curated vintage collections!! \nPlease invite your family and friends and let’s make this event magically for ALL parties involved!!! \n 
URL:https://courtneycoverscleveland.com/event/1984v-presents-funk-provocateur-by-tiara-chameleon/
LOCATION:Ageless Studios\, 12732 Larchmere Blvd.\, Ohio
ATTACH;FMTTYPE=image/png:https://courtneycoverscleveland.com/wp-content/uploads/2019/08/image1.png
END:VEVENT
BEGIN:VEVENT
DTSTART;TZID=America/Detroit:20190824T193000
DTEND;TZID=America/Detroit:20190824T223000
DTSTAMP:20260425T112313
CREATED:20190311T222736Z
LAST-MODIFIED:20190813T042817Z
UID:1714-1566675000-1566685800@courtneycoverscleveland.com
SUMMARY:Courtney x The Lion King at Playhouse Square
DESCRIPTION:#CourtneyCoversCleveland has teamed up with Playhouse Square again! This time for The Lion King and I couldn’t be more excited to attend!  This was literally one of my favorite movies growing up and I can’t wait to see it on stage right here in Cleveland! I’m not sure if I’ll make it a date night or another family outing\, but I know I will most certainly be there! \nDID YOU KNOW.. More than 90 million people around the world have experienced the awe-inspiring visual artistry\, the unforgettable music\, and the uniquely theatrical storytelling of this Broadway spectacular – one of the most breathtaking and beloved productions ever to grace the stage. \nSo I’m inviting all families and/or all couples to join #CourtneyCoversCleveland to see The Lion King at 7:30pm on August 24\, 2019 at KeyBank State Theater. Purchase your DISCOUNTED tickets by May 4th to sit with #CourtneyCoversCleveland For details on the shows and to purchase your ticket visit: https://groupmatics.events/event/Courtneycovers7  today! I am offering a couple price ranges so pick what works best for you and within your budget! I will be sitting in the lower mezzanine if you’d like to sit with me! I will try to coordinate a group picture before or after the event\, so please let me know once you have purchased your tickets! \n 
URL:https://courtneycoverscleveland.com/event/courtney-x-the-lion-king-at-playhouse-square/
LOCATION:Playhouse Square\, 1501 Euclid Avenue\, Cleveland\, Ohio\, 44115
ATTACH;FMTTYPE=image/jpeg:https://courtneycoverscleveland.com/wp-content/uploads/2019/03/1320x605-LionKing-Spotlight-7fe4b08155.jpg
END:VEVENT
BEGIN:VEVENT
DTSTART;TZID=America/Detroit:20190825T110000
DTEND;TZID=America/Detroit:20190825T140000
DTSTAMP:20260425T112313
CREATED:20190813T023749Z
LAST-MODIFIED:20190813T023749Z
UID:2063-1566730800-1566741600@courtneycoverscleveland.com
SUMMARY:Taste: Brunch Experience
DESCRIPTION:#CourtneyCoversCleveland is proud to help promote this event! \nTaste is a monthly brunch that provides food for your body and soul. \nCome enjoy a delicious meal and mix/mingle with other like-minded individuals. We have curated a unique worship experience that includes Biblical empowerment and powerful praise and worship. \nAlso shop with some of Cleveland’s hottest brands. \nBible lesson\, food\, and bowling provided for children. \nHosted by CJ Matthews and KINGDM. \nKINGDM exists to empower people\, experience God\, and engage culture by creating compelling content\, products and experiences.
URL:https://courtneycoverscleveland.com/event/taste-brunch-experience/
LOCATION:21400 Southgate Park Blvd.\, 21400 Southgate Park Blvd.\, Maple Heights\, Ohio\, 44137
ATTACH;FMTTYPE=image/jpeg:https://courtneycoverscleveland.com/wp-content/uploads/2019/08/image1-1.jpeg
END:VEVENT
BEGIN:VEVENT
DTSTART;TZID=America/Detroit:20190826T193000
DTEND;TZID=America/Detroit:20190826T223000
DTSTAMP:20260425T112313
CREATED:20190821T140330Z
LAST-MODIFIED:20190821T140412Z
UID:2100-1566847800-1566858600@courtneycoverscleveland.com
SUMMARY:Advanced Screening of DON’T LET GO!
DESCRIPTION:Here’s your chance to attend a special advance screening of the new thriller\, DON’T LET GO on Monday\, August 26 at 7:30pm at Cinemark Valley View 24. \nBe among the first in Cleveland to see this new movie before it opens in theaters on August 30. \nIn DON’T LET GO\, detective Jack Radcliff (David Oyelowo) gets a shocking phone call from his recently-murdered niece Ashley (Storm Reid). Working together across time\, they race to solve her murder before it can happen. \nFor your chance to win an admit-two movie screening pass\, go to: https://tinyurl.com/DLGALLIED  \nBe sure to include you found out about this from Courtney Covers Cleveland! \nA random drawing of all entries will be held to determine winners. An email with full details will be sent to each winner. \nGood luck!
URL:https://courtneycoverscleveland.com/event/register-to-win-passes-dont-let-go/
LOCATION:Cinemark Valley View\, 6001 Canal Rd\, Valley View\, ohio\, 44125
ATTACH;FMTTYPE=image/png:https://courtneycoverscleveland.com/wp-content/uploads/2019/08/Screen-Shot-2019-08-06-at-10.00.42-PM.png
END:VEVENT
BEGIN:VEVENT
DTSTART;TZID=America/Detroit:20190828T190000
DTEND;TZID=America/Detroit:20190828T220000
DTSTAMP:20260425T112313
CREATED:20190813T042402Z
LAST-MODIFIED:20190826T154316Z
UID:2081-1567018800-1567029600@courtneycoverscleveland.com
SUMMARY:A Dinner Party on A Patio
DESCRIPTION:THIS EVENT IS SOLD OUT! \n  \nAugust 28th the monthly meet up will be a private Dinner Party on A Patio at a place I recently discovered that I fell in love with! It’s absolutely beautiful\, so instead of planning a big elaborate event\, it’s going to be a dinner party! \nFor $50 guests will enjoy dinner and drinks! To attend guests must RSVP to courtneycoverscleveland@gmail.com with name and submit payment via paypal.me/courtneycoverscle or cash app $CourtneyCoversCLE ! LIMITED SPACE so please secure your spot while you can!!! \nThis event is great for ANYONE wanting to try something new in Cleveland! Grab your guy friends\, grab your girl friends\, grab a date… or simply bring your family (no kids permitted). Let’s enjoy this new place together! \nAs always\, details will only be shared with those who RSVP to the event!
URL:https://courtneycoverscleveland.com/event/a-dinner-party-on-a-patio/
LOCATION:Secret Location
ATTACH;FMTTYPE=image/png:https://courtneycoverscleveland.com/wp-content/uploads/2019/08/Courtney-Covers-Cleveland-1.png
END:VEVENT
BEGIN:VEVENT
DTSTART;TZID=America/Detroit:20190830T080000
DTEND;TZID=America/Detroit:20190830T170000
DTSTAMP:20260425T112313
CREATED:20190830T112054Z
LAST-MODIFIED:20190830T112054Z
UID:2130-1567152000-1567184400@courtneycoverscleveland.com
SUMMARY:Curvy in Cleveland 2 Year Anniversary
DESCRIPTION:Curvy in Cleveland is an inclusive brand for all genders\, sizes and abilities. This Sunday\, September 1st\, they are celebrating their 2 year anniversary with a pop up shop/ day party. It will include local artist and vendors from around Cleveland. \n$5 to enter\, $10 with food – complimentary drinks provided. \n 
URL:https://courtneycoverscleveland.com/event/curvy-in-cleveland-2-year-anniversary/
LOCATION:20150 Lakeshore Blvd.\, 20150 Lakeshore Blvd.\, Euclid\, Ohio\, 44123
ATTACH;FMTTYPE=image/jpeg:https://courtneycoverscleveland.com/wp-content/uploads/2019/08/IMG_6266.jpeg
END:VEVENT
BEGIN:VEVENT
DTSTART;TZID=America/Detroit:20190831T110000
DTEND;TZID=America/Detroit:20190831T180000
DTSTAMP:20260425T112313
CREATED:20190830T111556Z
LAST-MODIFIED:20190830T111556Z
UID:2127-1567249200-1567274400@courtneycoverscleveland.com
SUMMARY:The Heights Brunch
DESCRIPTION:Homebred Legends & The Cleveland Heights High School c/o 2009 Present: The Heights Brunch\n\nThis Labor Day weekend event (8/31) comes in the form of a dual experience in the heart of Cleveland Heights at Elite Bistro on Lee Road. Families and people of all ages can come enjoy a hearty brunch with a tasty menu and mimosas both by the pitcher and the glass from 11am-2pm. From 2pm-6pm\, the venue transitions into a 21+ Day Party with a live DJ\, hookah\, and flowing drinks for a kick-it that will be memorable with unmatched vibes.\n\nThroughout the entire event there will also be an exclusive Homebred Legends Pop-Up Shop featuring never before seen apparel pieces that will be available for purchase.\n\nThe Heights Brunch takes place in The Heights\, but isn’t limited to just those within the city limits. This function is free and open to the public! Coming on the weekend of the CHHS class of 2009 10 year reunion\, class representatives will be accepting donations upon arrival to go towards class efforts which will be appreciated\, but not required.\n\nAll are welcome to this event that is the first of it’s kind and is sure to kick off the long weekend with vibrant energy and unity amongst all types of people across the city of Cleveland!
URL:https://courtneycoverscleveland.com/event/the-heights-brunch/
LOCATION:Elite Bistro\, 2195 Lee Rd\, Cleveland Heights\, Ohio
ATTACH;FMTTYPE=image/jpeg:https://courtneycoverscleveland.com/wp-content/uploads/2019/08/THE-HEIGHTS-BRUNCH-FLYER-1.jpg
END:VEVENT
END:VCALENDAR